BEGIN:VCALENDAR
VERSION:2.0
PRODID:-//West Virginia Convention of Southern Baptists - ECPv5.10.0//NONSGML v1.0//EN
CALSCALE:GREGORIAN
METHOD:PUBLISH
X-WR-CALNAME:West Virginia Convention of Southern Baptists
X-ORIGINAL-URL:https://www.wvcsb.org
X-WR-CALDESC:Events for West Virginia Convention of Southern Baptists
BEGIN:VTIMEZONE
TZID:America/New_York
BEGIN:DAYLIGHT
TZOFFSETFROM:-0500
TZOFFSETTO:-0400
TZNAME:EDT
DTSTART:20230312T070000
END:DAYLIGHT
BEGIN:STANDARD
TZOFFSETFROM:-0400
TZOFFSETTO:-0500
TZNAME:EST
DTSTART:20231105T060000
END:STANDARD
END:VTIMEZONE
BEGIN:VEVENT
DTSTART;VALUE=DATE:20230626
DTEND;VALUE=DATE:20230701
DTSTAMP:20260421T063957
CREATED:20230124T051800Z
LAST-MODIFIED:20230329T173619Z
UID:7647-1687737600-1688169599@www.wvcsb.org
SUMMARY:Summit Student Camp
DESCRIPTION:Back and better than ever for year three\, West Virginia Southern Baptists are excited to sponsor Summit Camp\, a summer getaway for 6-12th graders. \nThis all-inclusive experience is designed for middle and high schoolers. Each day students will have an opportunity to engage in small groups\, worship\, Bible-based teaching\, games\, and more. \nEarly bird pricing of $199 per camper is due before May 1\, 2023. After that date\, pricing is $239 per camper. Register today before we’re out of bunks! \n  \nREGISTER YOUR GROUP \nRequired forms for campers:\nGROUP Registration Form\nINDIVIDUAL Registration Form\nINDIVIDUAL Medical Release Form\nPacking list + general FAQ \nPromo:\nSummit Camp POSTER\nSummit Camp POSTCARD\nHype VIDEO \n﻿
URL:https://www.wvcsb.org/event/camp23/
LOCATION:Parchment Valley Conference Center\, 1715 Parchment Valley Road\, Ripley\, WV\, 25271\, United States
ATTACH;FMTTYPE=image/jpeg:https://www.wvcsb.org/wp-content/uploads/2023/01/camp23-event.jpg
END:VEVENT
END:VCALENDAR