BEGIN:VCALENDAR
VERSION:2.0
PRODID:-//West Virginia Convention of Southern Baptists - ECPv5.10.0//NONSGML v1.0//EN
CALSCALE:GREGORIAN
METHOD:PUBLISH
X-WR-CALNAME:West Virginia Convention of Southern Baptists
X-ORIGINAL-URL:https://www.wvcsb.org
X-WR-CALDESC:Events for West Virginia Convention of Southern Baptists
BEGIN:VTIMEZONE
TZID:America/New_York
BEGIN:DAYLIGHT
TZOFFSETFROM:-0500
TZOFFSETTO:-0400
TZNAME:EDT
DTSTART:20220313T070000
END:DAYLIGHT
BEGIN:STANDARD
TZOFFSETFROM:-0400
TZOFFSETTO:-0500
TZNAME:EST
DTSTART:20221106T060000
END:STANDARD
END:VTIMEZONE
BEGIN:VEVENT
DTSTART;VALUE=DATE:20221006
DTEND;VALUE=DATE:20221009
DTSTAMP:20260421T091850
CREATED:20220909T145842Z
LAST-MODIFIED:20220909T150941Z
UID:7568-1665014400-1665273599@www.wvcsb.org
SUMMARY:Gilbert TrailFest ATV Giveaway
DESCRIPTION:Sponsored by several associations in West Virginia and the WVCSB\, this ministry will be conducted in Gilbert\, WV during National TrailFest\, October 6-8\, 2022. \n \nPlease consider volunteering during this evangelism event.\nA brand new Polaris Sportsman 450 ATV will be given away at the end of TrailFest. Volunteers enlisted from West Virginia\, surrounding states\, and from across the nation will give an evangelistic testimony in three minutes. Everyone will be invited into the tent and be given the opportunity to register to win the ATV\, in exchange for them listening to a three minute testimony how Jesus changed the volunteer’s life. Followup contact for those who pray to accept Jesus Christ as Lord and Savior is provided by each volunteer who shared their testimony. \nWe are anticipating the LORD will do great things through this ATV giveaway. \nMORE INFORMATION + DOWNLOADS:\nATV Giveaway Frequently Asked Questions (FAQ)\nPrayer Sheet \n\n\n 
URL:https://www.wvcsb.org/event/gilbert-trailfest-atv-giveaway/
LOCATION:Gilbert Trailfest\, Gilbert\, WV\, United States
ATTACH;FMTTYPE=image/jpeg:https://www.wvcsb.org/wp-content/uploads/2021/08/kilyan-sockalingum-cxUgrQapYi4-unsplash-1.jpg
END:VEVENT
END:VCALENDAR