BEGIN:VCALENDAR
VERSION:2.0
PRODID:-//West Virginia Convention of Southern Baptists - ECPv5.10.0//NONSGML v1.0//EN
CALSCALE:GREGORIAN
METHOD:PUBLISH
X-WR-CALNAME:West Virginia Convention of Southern Baptists
X-ORIGINAL-URL:https://www.wvcsb.org
X-WR-CALDESC:Events for West Virginia Convention of Southern Baptists
BEGIN:VTIMEZONE
TZID:America/New_York
BEGIN:DAYLIGHT
TZOFFSETFROM:-0500
TZOFFSETTO:-0400
TZNAME:EDT
DTSTART:20250309T070000
END:DAYLIGHT
BEGIN:STANDARD
TZOFFSETFROM:-0400
TZOFFSETTO:-0500
TZNAME:EST
DTSTART:20251102T060000
END:STANDARD
END:VTIMEZONE
BEGIN:VEVENT
DTSTART;VALUE=DATE:20250806
DTEND;VALUE=DATE:20250814
DTSTAMP:20260419T162012
CREATED:20250304T214956Z
LAST-MODIFIED:20250304T215018Z
UID:8464-1754438400-1755129599@www.wvcsb.org
SUMMARY:Peru Construction Mission Trip
DESCRIPTION:Join our mission team to Trujillo\, Peru\, to assist with construction projects\, evangelism\, and church ministry—apply by April 1\, 2025! \n \nTrujillo\, La Libertad\, PeruJuly 31 – August 7\, 2025Cost: $2\,320 per team member \nThis team will work out of the Baptist Theological Seminary of Trujillo. This team will do some structural repair\, painting\, general beautification\, and possibly some plumbing and electrical work. All team members will conduct pre-scheduled personal evangelism visits in people’s homes. Preachers on the team will be preaching in churches. Others will have opportunities to share a testimony or sing in a worship service. \nWest Virginia Southern Baptists are the primary partner with the Baptist Theological Seminary of Trujillo. This team will be a strong encouragement to the Seminary administration and faculty\, as well as the pastors and church leaders in Trujillo and the surrounding area. \nCost includes all meals (except for travel meals to and from Peru)\, lodging\, translators\, and all air and ground transportation. Space is limited. Interested team members must complete and submit an application no later than April 1\, 2025. The team will be announced on April 15\, 2025. \n  \nMISSION TRIP APPLICATION \n 
URL:https://www.wvcsb.org/event/peru-construction-2025/
LOCATION:*MULTIPLE LOCATIONS\, WV\, United States
ATTACH;FMTTYPE=image/jpeg:https://www.wvcsb.org/wp-content/uploads/2021/11/peru-web.jpg
END:VEVENT
END:VCALENDAR