BEGIN:VCALENDAR
VERSION:2.0
PRODID:-//West Virginia Convention of Southern Baptists - ECPv5.10.0//NONSGML v1.0//EN
CALSCALE:GREGORIAN
METHOD:PUBLISH
X-WR-CALNAME:West Virginia Convention of Southern Baptists
X-ORIGINAL-URL:https://www.wvcsb.org
X-WR-CALDESC:Events for West Virginia Convention of Southern Baptists
BEGIN:VTIMEZONE
TZID:America/New_York
BEGIN:DAYLIGHT
TZOFFSETFROM:-0500
TZOFFSETTO:-0400
TZNAME:EDT
DTSTART:20250309T070000
END:DAYLIGHT
BEGIN:STANDARD
TZOFFSETFROM:-0400
TZOFFSETTO:-0500
TZNAME:EST
DTSTART:20251102T060000
END:STANDARD
END:VTIMEZONE
BEGIN:VEVENT
DTSTART;VALUE=DATE:20250731
DTEND;VALUE=DATE:20250808
DTSTAMP:20260419T162051
CREATED:20250304T213214Z
LAST-MODIFIED:20250304T213533Z
UID:8458-1753920000-1754611199@www.wvcsb.org
SUMMARY:Peru Pastors' Wives Mission Trip
DESCRIPTION:Join us in Trujillo\, Peru\, to empower and encourage Peruvian Baptist pastors’ wives through a transformative conference and personal gospel-sharing visits\, all while experiencing the beauty of Peru—apply by April 1\, 2025! \n \nTrujillo\, La Libertad\, PeruJuly 31 – August 7\, 2025Cost: $2\,320 per team member \nThis team will travel to Peru with the Student Team to Trujillo\, Peru. On day 2\, the Student Team will travel by bus to Huamachuco\, while the Pastors’ Wives Team remains in Trujillo at the Baptist Theological Seminary of Trujillo. West Virginia Southern Baptists are the primary partner with the Baptist Theological Seminary of Trujillo. \nThe Pastors’ Wives Team will conduct a Pastors’ Wives Conference for the Peruvian Baptist pastors’ wives. The Peruvian pastors’ wives have requested this conference. The conference will have a “retreat feel” and be a time of teaching\, fellowship\, worship\, encouragement\, relationship building\, and interactive fun. In addition\, this team will conduct pre-scheduled personal gospel-sharing visits with Peruvian pastor’s wives in people’s homes. \nThe cost includes all meals (except for travel meals to and from Peru)\, lodging\, translators\, and all air and ground transportation. Space is limited. Interested team members must complete and submit an application no later than April 1\, 2025. The team will be announced on April 15\, 2025. \n  \nMISSION TRIP APPLICATION \n 
URL:https://www.wvcsb.org/event/peru-pwg-2025/
LOCATION:*MULTIPLE LOCATIONS\, WV\, United States
ATTACH;FMTTYPE=image/jpeg:https://www.wvcsb.org/wp-content/uploads/2021/11/peru-web.jpg
END:VEVENT
END:VCALENDAR